BEGIN:VCALENDAR
PRODID:-
VERSION:2.0
BEGIN:VEVENT
DTSTART;TZID=Pacific/Auckland:20251010T000000Z
DTEND;TZID=Pacific/Auckland:20251012T000000Z
TRANSP:OPAQUE
DTSTAMP:20260425T233025Z
SEQUENCE:0
SUMMARY:Tihoi 2025/2 - Parent Tramp 1 / Alpine 
DESCRIPTION:Parents select one tramp<br/>
UID:6743@stpaulscollegiateschool
END:VEVENT
END:VCALENDAR
