BEGIN:VCALENDAR
PRODID:-
VERSION:2.0
BEGIN:VEVENT
DTSTART;VALUE=DATE:20251013
DTSTAMP:20260426T005620Z
SEQUENCE:0
SUMMARY:Tihoi 2025/2 Parcel Run
UID:7235@stpaulscollegiateschool
END:VEVENT
END:VCALENDAR
