BEGIN:VCALENDAR
PRODID:-
VERSION:2.0
BEGIN:VEVENT
DTSTART;VALUE=DATE:20251203
DTSTAMP:20260426T020410Z
SEQUENCE:0
SUMMARY:2025/2 Year 10 Boarders Return 
UID:7163@stpaulscollegiateschool
END:VEVENT
END:VCALENDAR
