BEGIN:VCALENDAR
PRODID:-
VERSION:2.0
BEGIN:VEVENT
DTSTART;VALUE=DATE:20251204
DTSTAMP:20260426T000901Z
SEQUENCE:0
SUMMARY:Term 4 Ends 
UID:6555@stpaulscollegiateschool
END:VEVENT
END:VCALENDAR
