BEGIN:VCALENDAR
PRODID:-
VERSION:2.0
BEGIN:VEVENT
DTSTART;VALUE=DATE:20251204
DTSTAMP:20260426T000421Z
SEQUENCE:0
SUMMARY:2025/2 Re-Entry & 2026/1 Exit Service
UID:6556@stpaulscollegiateschool
END:VEVENT
END:VCALENDAR
