BEGIN:VCALENDAR
PRODID:-
VERSION:2.0
BEGIN:VEVENT
DTSTART;VALUE=DATE:20251204
DTSTAMP:20260426T000901Z
SEQUENCE:0
SUMMARY:Year 9-11 Prizegiving 
UID:6557@stpaulscollegiateschool
END:VEVENT
END:VCALENDAR
