BEGIN:VCALENDAR
PRODID:-
VERSION:2.0
BEGIN:VEVENT
DTSTART;VALUE=DATE:20251204
DTSTAMP:20260426T002209Z
SEQUENCE:0
SUMMARY:Carol Service 
DESCRIPTION:Whole school event. Parents welcome in person or online.<br>Location: Chapel of Christ the King<br/>
UID:6558@stpaulscollegiateschool
END:VEVENT
END:VCALENDAR
