BEGIN:VCALENDAR
PRODID:-
VERSION:2.0
BEGIN:VEVENT
DTSTART;VALUE=DATE:20251204
DTSTAMP:20260426T004205Z
SEQUENCE:0
SUMMARY:Year 13 Parents/Students' Farewell
DESCRIPTION:Farewell gathering for Year 13 (and Year 12 leavers). Complimentary food and beverages for leavers and parents. <br>Location: Dining Room/The Terrace<br/>
UID:6559@stpaulscollegiateschool
END:VEVENT
END:VCALENDAR
