BEGIN:VCALENDAR
PRODID:-
VERSION:2.0
BEGIN:VEVENT
DTSTART;TZID=Pacific/Auckland:20251206T000000Z
DTEND;TZID=Pacific/Auckland:20251209T000000Z
TRANSP:OPAQUE
DTSTAMP:20260425T153514Z
SEQUENCE:0
SUMMARY:Mangakino Rowing Camp 
UID:7376@stpaulscollegiateschool
END:VEVENT
END:VCALENDAR
