BEGIN:VCALENDAR
PRODID:-
VERSION:2.0
BEGIN:VEVENT
DTSTART;TZID=Pacific/Auckland:20251208T000000Z
DTEND;TZID=Pacific/Auckland:20251211T000000Z
TRANSP:OPAQUE
DTSTAMP:20260425T122015Z
SEQUENCE:0
SUMMARY:Cricket - Vettori Shield
DESCRIPTION:SPC Colts XI vs OBHS; Christ College; HIBS, Wellington College; MAGS; Whanganui College; Westlake.<br/>
UID:7500@stpaulscollegiateschool
END:VEVENT
END:VCALENDAR
