BEGIN:VCALENDAR
PRODID:-
VERSION:2.0
BEGIN:VEVENT
DTSTART;TZID=Pacific/Auckland:20251217T000000Z
DTEND;TZID=Pacific/Auckland:20251222T000000Z
TRANSP:OPAQUE
DTSTAMP:20260424T160934Z
SEQUENCE:0
SUMMARY:NZ Secondary School Cricket Finals
UID:7077@stpaulscollegiateschool
END:VEVENT
END:VCALENDAR
