BEGIN:VCALENDAR
PRODID:-
VERSION:2.0
BEGIN:VEVENT
DTSTART;TZID=Pacific/Auckland:20260111T000000Z
DTEND;TZID=Pacific/Auckland:20260115T000000Z
TRANSP:OPAQUE
DTSTAMP:20260422T200121Z
SEQUENCE:0
SUMMARY:WHAKAMARU ROWING CAMP
UID:7377@stpaulscollegiateschool
END:VEVENT
END:VCALENDAR
