BEGIN:VCALENDAR
PRODID:-
VERSION:2.0
BEGIN:VEVENT
DTSTART;TZID=Pacific/Auckland:20260115T000000Z
DTEND;TZID=Pacific/Auckland:20260117T000000Z
TRANSP:OPAQUE
DTSTAMP:20260422T183350Z
SEQUENCE:0
SUMMARY:Music Camp 
UID:7537@stpaulscollegiateschool
END:VEVENT
END:VCALENDAR
