BEGIN:VCALENDAR
PRODID:-
VERSION:2.0
BEGIN:VEVENT
DTSTART;VALUE=DATE:20260118
DTSTAMP:20260422T133841Z
SEQUENCE:0
SUMMARY:New Year 11 and Year 12 girls arrive in boarding for one nig
DESCRIPTION:Girls arrive to prepare to go to Tihoi Camp the following day. This is for new Year 11 and 12 boarders with Harington Boarding Leaders.<br/>
UID:7215@stpaulscollegiateschool
END:VEVENT
END:VCALENDAR
