BEGIN:VCALENDAR
PRODID:-
VERSION:2.0
BEGIN:VEVENT
DTSTART;TZID=Pacific/Auckland:20260118T000000Z
DTEND;TZID=Pacific/Auckland:20260120T000000Z
TRANSP:OPAQUE
DTSTAMP:20260422T093628Z
SEQUENCE:0
SUMMARY:Karapiro Rowing camp
UID:7378@stpaulscollegiateschool
END:VEVENT
END:VCALENDAR
