BEGIN:VCALENDAR
PRODID:-
VERSION:2.0
BEGIN:VEVENT
DTSTART;TZID=Pacific/Auckland:20260119T000000Z
DTEND;TZID=Pacific/Auckland:20260122T000000Z
TRANSP:OPAQUE
DTSTAMP:20260422T060713Z
SEQUENCE:0
SUMMARY:Quad Cricket Tournament (Home)
UID:7501@stpaulscollegiateschool
END:VEVENT
END:VCALENDAR
