BEGIN:VCALENDAR
PRODID:-
VERSION:2.0
BEGIN:VEVENT
DTSTART;TZID=Pacific/Auckland:20260119T000000Z
DTEND;TZID=Pacific/Auckland:20260121T000000Z
TRANSP:OPAQUE
DTSTAMP:20260422T080304Z
SEQUENCE:0
SUMMARY:Girls' Tihoi Camp 
DESCRIPTION:This camp is for all new female students and Year 13 leaders.<br/>
UID:6969@stpaulscollegiateschool
END:VEVENT
END:VCALENDAR
