BEGIN:VCALENDAR
PRODID:-
VERSION:2.0
BEGIN:VEVENT
DTSTART;VALUE=DATE:20260124
DTSTAMP:20260422T021622Z
SEQUENCE:0
SUMMARY:Year 9 Boarding Girls Arrive 
UID:7013@stpaulscollegiateschool
END:VEVENT
END:VCALENDAR
