BEGIN:VCALENDAR
PRODID:-
VERSION:2.0
BEGIN:VEVENT
DTSTART;VALUE=DATE:20260125
DTSTAMP:20260422T002545Z
SEQUENCE:0
SUMMARY:Year 9 Boarding Girls In 
UID:7014@stpaulscollegiateschool
END:VEVENT
END:VCALENDAR
