BEGIN:VCALENDAR
PRODID:-
VERSION:2.0
BEGIN:VEVENT
DTSTART;VALUE=DATE:20260428
DTSTAMP:20260423T172428Z
SEQUENCE:0
SUMMARY:LOC Meeting 
UID:7107@stpaulscollegiateschool
END:VEVENT
END:VCALENDAR
