BEGIN:VCALENDAR
PRODID:-
VERSION:2.0
BEGIN:VEVENT
DTSTART;VALUE=DATE:20260430
DTSTAMP:20260423T210926Z
SEQUENCE:0
SUMMARY:Year 11 Market Day
UID:7770@stpaulscollegiateschool
END:VEVENT
END:VCALENDAR
