BEGIN:VCALENDAR
PRODID:-
VERSION:2.0
BEGIN:VEVENT
DTSTART;VALUE=DATE:20260504
DTSTAMP:20260424T035034Z
SEQUENCE:0
SUMMARY:Interhouse Cross Country 
UID:7109@stpaulscollegiateschool
END:VEVENT
END:VCALENDAR
