BEGIN:VCALENDAR
PRODID:-
VERSION:2.0
BEGIN:VEVENT
DTSTART;VALUE=DATE:20260505
DTSTAMP:20260424T053025Z
SEQUENCE:0
SUMMARY:Foundation Meeting 
UID:7449@stpaulscollegiateschool
END:VEVENT
END:VCALENDAR
