BEGIN:VCALENDAR
PRODID:-
VERSION:2.0
BEGIN:VEVENT
DTSTART;VALUE=DATE:20260505
DTSTAMP:20260424T053443Z
SEQUENCE:0
SUMMARY:World Vision Youth Conference - Auckland
UID:7745@stpaulscollegiateschool
END:VEVENT
END:VCALENDAR
