BEGIN:VCALENDAR
PRODID:-
VERSION:2.0
BEGIN:VEVENT
DTSTART;VALUE=DATE:20260506
DTSTAMP:20260424T072131Z
SEQUENCE:0
SUMMARY:Flu and Meningococcal Vaccinations (Staff and Students)
UID:7790@stpaulscollegiateschool
END:VEVENT
END:VCALENDAR
