BEGIN:VCALENDAR
PRODID:-
VERSION:2.0
BEGIN:VEVENT
DTSTART;VALUE=DATE:20260506
DTSTAMP:20260424T072131Z
SEQUENCE:0
SUMMARY:Year 12 Agriculture-Horticulture Trip 
DESCRIPTION:LIC (Livestock Improvement Corporation), Rawhiti, Halter<br/>
UID:7416@stpaulscollegiateschool
END:VEVENT
END:VCALENDAR
