BEGIN:VCALENDAR
PRODID:-
VERSION:2.0
BEGIN:VEVENT
DTSTART;VALUE=DATE:20260506
DTSTAMP:20260424T072403Z
SEQUENCE:0
SUMMARY:Year 9 Social
UID:7728@stpaulscollegiateschool
END:VEVENT
END:VCALENDAR
