BEGIN:VCALENDAR
PRODID:-
VERSION:2.0
BEGIN:VEVENT
DTSTART;VALUE=DATE:20260507
DTSTAMP:20260424T085615Z
SEQUENCE:0
SUMMARY:Prefects V Dio Netball (@ Dio) 
UID:7593@stpaulscollegiateschool
END:VEVENT
END:VCALENDAR
