BEGIN:VCALENDAR
PRODID:-
VERSION:2.0
BEGIN:VEVENT
DTSTART;VALUE=DATE:20260508
DTSTAMP:20260424T104450Z
SEQUENCE:0
SUMMARY:Ugly Shakespeare Company
DESCRIPTION:All Year 11's to attend Period 3. Period 4 may be 5 - 10 mins shorter for those students.<br/>
UID:7797@stpaulscollegiateschool
END:VEVENT
END:VCALENDAR
