BEGIN:VCALENDAR
PRODID:-
VERSION:2.0
BEGIN:VEVENT
DTSTART;VALUE=DATE:20260509
DTSTAMP:20260424T140932Z
SEQUENCE:0
SUMMARY:Waikato School Choral Extravaganza- Day 1
UID:7410@stpaulscollegiateschool
END:VEVENT
END:VCALENDAR
