BEGIN:VCALENDAR
PRODID:-
VERSION:2.0
BEGIN:VEVENT
DTSTART;VALUE=DATE:20260510
DTSTAMP:20260424T143301Z
SEQUENCE:0
SUMMARY:Waikato School Choral Extravaganza Day 2
UID:7772@stpaulscollegiateschool
END:VEVENT
END:VCALENDAR
