BEGIN:VCALENDAR
PRODID:-
VERSION:2.0
BEGIN:VEVENT
DTSTART;VALUE=DATE:20260513
DTSTAMP:20260424T202559Z
SEQUENCE:0
SUMMARY:Flu and Meningococcal Vaccinations (Staff and Students)
UID:7791@stpaulscollegiateschool
END:VEVENT
END:VCALENDAR
