BEGIN:VCALENDAR
PRODID:-
VERSION:2.0
BEGIN:VEVENT
DTSTART;VALUE=DATE:20260514
DTSTAMP:20260424T214638Z
SEQUENCE:0
SUMMARY: Pink Shirt Day - Non Uniform  + Charity Day 
DESCRIPTION:Mental Health Foundation<br/>
UID:7332@stpaulscollegiateschool
END:VEVENT
END:VCALENDAR
