BEGIN:VCALENDAR
PRODID:-
VERSION:2.0
BEGIN:VEVENT
DTSTART;VALUE=DATE:20260514
DTSTAMP:20260424T214933Z
SEQUENCE:0
SUMMARY:Year 12 Geography Trip 
DESCRIPTION:Raglan<br/>
UID:7408@stpaulscollegiateschool
END:VEVENT
END:VCALENDAR
