BEGIN:VCALENDAR
PRODID:-
VERSION:2.0
BEGIN:VEVENT
DTSTART;TZID=Pacific/Auckland:20260516T000000Z
DTEND;TZID=Pacific/Auckland:20260518T000000Z
TRANSP:OPAQUE
DTSTAMP:20260425T012429Z
SEQUENCE:0
SUMMARY:Kapa Haka Noho
UID:7794@stpaulscollegiateschool
END:VEVENT
END:VCALENDAR
