BEGIN:VCALENDAR
PRODID:-
VERSION:2.0
BEGIN:VEVENT
DTSTART;TZID=Pacific/Auckland:20260517T000000Z
DTEND;TZID=Pacific/Auckland:20260518T000000Z
TRANSP:OPAQUE
DTSTAMP:20260425T031203Z
SEQUENCE:0
SUMMARY:Duke of Edinburgh Gold Practice Tramp
UID:7744@stpaulscollegiateschool
END:VEVENT
END:VCALENDAR
