BEGIN:VCALENDAR
PRODID:-
VERSION:2.0
BEGIN:VEVENT
DTSTART;VALUE=DATE:20260521
DTSTAMP:20260425T110035Z
SEQUENCE:0
SUMMARY:NZQA CAA - Junior Reading
UID:7813@stpaulscollegiateschool
END:VEVENT
END:VCALENDAR
