BEGIN:VCALENDAR
PRODID:-
VERSION:2.0
BEGIN:VEVENT
DTSTART;VALUE=DATE:20260521
DTSTAMP:20260425T105848Z
SEQUENCE:0
SUMMARY:NZQA CAA - Senior Reading
UID:7814@stpaulscollegiateschool
END:VEVENT
END:VCALENDAR
