BEGIN:VCALENDAR
PRODID:-
VERSION:2.0
BEGIN:VEVENT
DTSTART;VALUE=DATE:20260523
DTSTAMP:20260425T143721Z
SEQUENCE:0
SUMMARY:Collegian's Reunion - 2009 - 2012
UID:7787@stpaulscollegiateschool
END:VEVENT
END:VCALENDAR
