BEGIN:VCALENDAR
PRODID:-
VERSION:2.0
BEGIN:VEVENT
DTSTART;VALUE=DATE:20260529
DTSTAMP:20260426T022900Z
SEQUENCE:0
SUMMARY:School Ball 
UID:7112@stpaulscollegiateschool
END:VEVENT
END:VCALENDAR
