BEGIN:VCALENDAR
PRODID:-
VERSION:2.0
BEGIN:VEVENT
DTSTART;VALUE=DATE:20220617
DTSTAMP:20260419T114801Z
SEQUENCE:0
SUMMARY:Teacher Only Day
UID:214@stpaulscollegiateschool
END:VEVENT
END:VCALENDAR
