BEGIN:VCALENDAR
PRODID:-
VERSION:2.0
BEGIN:VEVENT
DTSTART;TZID=Pacific/Auckland:20230923T000000Z
DTEND;TZID=Pacific/Auckland:20230925T000000Z
TRANSP:OPAQUE
DTSTAMP:20260419T191845Z
SEQUENCE:0
SUMMARY:North Island Clay Target Championships 
UID:5452@stpaulscollegiateschool
END:VEVENT
END:VCALENDAR
