BEGIN:VCALENDAR
PRODID:-
VERSION:2.0
BEGIN:VEVENT
DTSTART;VALUE=DATE:20231017
DTSTAMP:20260420T051046Z
SEQUENCE:0
SUMMARY:Turanga-nui-a-Taura Hui
UID:5882@stpaulscollegiateschool
END:VEVENT
END:VCALENDAR
