BEGIN:VCALENDAR
PRODID:-
VERSION:2.0
BEGIN:VEVENT
DTSTART;VALUE=DATE:20231028
DTSTAMP:20260419T191423Z
SEQUENCE:0
SUMMARY:Fitchett House Dinner 
UID:5230@stpaulscollegiateschool
END:VEVENT
END:VCALENDAR
