BEGIN:VCALENDAR
PRODID:-
VERSION:2.0
BEGIN:VEVENT
DTSTART;VALUE=DATE:20231031
DTSTAMP:20260419T161347Z
SEQUENCE:0
SUMMARY:Maaori Awards Dinner 
UID:5232@stpaulscollegiateschool
END:VEVENT
END:VCALENDAR
