BEGIN:VCALENDAR
PRODID:-
VERSION:2.0
BEGIN:VEVENT
DTSTART;VALUE=DATE:20231129
DTSTAMP:20260419T144454Z
SEQUENCE:0
SUMMARY:Cricket - 1st XI vs HBHS 1st XI - 50 Over Game
DESCRIPTION:St Paul's 1st XI vs HBHS @ 10.30 am at St Paul's<br/>
UID:5957@stpaulscollegiateschool
END:VEVENT
END:VCALENDAR
