BEGIN:VCALENDAR
PRODID:-
VERSION:2.0
BEGIN:VEVENT
DTSTART;VALUE=DATE:20240125
DTSTAMP:20260419T144331Z
SEQUENCE:0
SUMMARY:Cricket Game - St Paul's 1st XI vs St Peter's 1st XI  (Way O
UID:6055@stpaulscollegiateschool
END:VEVENT
END:VCALENDAR
