BEGIN:VCALENDAR
PRODID:-
VERSION:2.0
BEGIN:VEVENT
DTSTART;VALUE=DATE:20240129
DTSTAMP:20260419T180954Z
SEQUENCE:0
SUMMARY:Headmaster's Address to parents of new students
DESCRIPTION:In the Chapel<br/>
UID:5964@stpaulscollegiateschool
END:VEVENT
END:VCALENDAR
