BEGIN:VCALENDAR
PRODID:-
VERSION:2.0
BEGIN:VEVENT
DTSTART;TZID=Pacific/Auckland:20240206T000000Z
DTEND;TZID=Pacific/Auckland:20240208T000000Z
TRANSP:OPAQUE
DTSTAMP:20260419T212133Z
SEQUENCE:0
SUMMARY:Tihoi 2024/1 - House tramp
UID:5902@stpaulscollegiateschool
END:VEVENT
END:VCALENDAR
