BEGIN:VCALENDAR
PRODID:-
VERSION:2.0
BEGIN:VEVENT
DTSTART;VALUE=DATE:20240212
DTSTAMP:20260419T215213Z
SEQUENCE:0
SUMMARY:Tihoi 2024/1 - Parcel Run 
DESCRIPTION:Parcels due to reception by 8:30 am<br/>
UID:6098@stpaulscollegiateschool
END:VEVENT
END:VCALENDAR
